BEGIN:VCALENDAR
VERSION:2.0
PRODID:-//LE PASSE MURAILLE MUSIC - ECPv6.15.17.1//NONSGML v1.0//EN
CALSCALE:GREGORIAN
METHOD:PUBLISH
X-ORIGINAL-URL:https://lepassemuraille-music.com
X-WR-CALDESC:Évènements pour LE PASSE MURAILLE MUSIC
REFRESH-INTERVAL;VALUE=DURATION:PT1H
X-Robots-Tag:noindex
X-PUBLISHED-TTL:PT1H
BEGIN:VTIMEZONE
TZID:Europe/Paris
BEGIN:DAYLIGHT
TZOFFSETFROM:+0100
TZOFFSETTO:+0200
TZNAME:CEST
DTSTART:20250330T010000
END:DAYLIGHT
BEGIN:STANDARD
TZOFFSETFROM:+0200
TZOFFSETTO:+0100
TZNAME:CET
DTSTART:20251026T010000
END:STANDARD
BEGIN:DAYLIGHT
TZOFFSETFROM:+0100
TZOFFSETTO:+0200
TZNAME:CEST
DTSTART:20260329T010000
END:DAYLIGHT
BEGIN:STANDARD
TZOFFSETFROM:+0200
TZOFFSETTO:+0100
TZNAME:CET
DTSTART:20261025T010000
END:STANDARD
BEGIN:DAYLIGHT
TZOFFSETFROM:+0100
TZOFFSETTO:+0200
TZNAME:CEST
DTSTART:20270328T010000
END:DAYLIGHT
BEGIN:STANDARD
TZOFFSETFROM:+0200
TZOFFSETTO:+0100
TZNAME:CET
DTSTART:20271031T010000
END:STANDARD
END:VTIMEZONE
BEGIN:VEVENT
DTSTART;TZID=Europe/Paris:20260604T000000
DTEND;TZID=Europe/Paris:20260604T000000
DTSTAMP:20260421T120656
CREATED:20260404T123456Z
LAST-MODIFIED:20260406T170041Z
UID:978-1780531200-1780531200@lepassemuraille-music.com
SUMMARY:YASS BODY - La Bulle Café - Lille (59)
DESCRIPTION:
URL:https://lepassemuraille-music.com/evenement/yass-body-la-bulle-cafe/
CATEGORIES:YASS BODY
ATTACH;FMTTYPE=image/jpeg:https://lepassemuraille-music.com/wp-content/uploads/2026/02/bulle.jpg
END:VEVENT
BEGIN:VEVENT
DTSTART;TZID=Europe/Paris:20260620T200000
DTEND;TZID=Europe/Paris:20260620T233000
DTSTAMP:20260421T120656
CREATED:20260406T170518Z
LAST-MODIFIED:20260406T170518Z
UID:1033-1781985600-1781998200@lepassemuraille-music.com
SUMMARY:YASS BODY - Fête de la Musique - Maubeuge (59)
DESCRIPTION:
URL:https://lepassemuraille-music.com/evenement/yass-body-fete-de-la-musique-maubeuge-59/
CATEGORIES:YASS BODY
END:VEVENT
END:VCALENDAR