BEGIN:VCALENDAR
VERSION:2.0
PRODID:-//LE PASSE MURAILLE MUSIC - ECPv6.15.17.1//NONSGML v1.0//EN
CALSCALE:GREGORIAN
METHOD:PUBLISH
X-ORIGINAL-URL:https://lepassemuraille-music.com
X-WR-CALDESC:Évènements pour LE PASSE MURAILLE MUSIC
REFRESH-INTERVAL;VALUE=DURATION:PT1H
X-Robots-Tag:noindex
X-PUBLISHED-TTL:PT1H
BEGIN:VTIMEZONE
TZID:Europe/Paris
BEGIN:DAYLIGHT
TZOFFSETFROM:+0100
TZOFFSETTO:+0200
TZNAME:CEST
DTSTART:20240331T010000
END:DAYLIGHT
BEGIN:STANDARD
TZOFFSETFROM:+0200
TZOFFSETTO:+0100
TZNAME:CET
DTSTART:20241027T010000
END:STANDARD
BEGIN:DAYLIGHT
TZOFFSETFROM:+0100
TZOFFSETTO:+0200
TZNAME:CEST
DTSTART:20250330T010000
END:DAYLIGHT
BEGIN:STANDARD
TZOFFSETFROM:+0200
TZOFFSETTO:+0100
TZNAME:CET
DTSTART:20251026T010000
END:STANDARD
BEGIN:DAYLIGHT
TZOFFSETFROM:+0100
TZOFFSETTO:+0200
TZNAME:CEST
DTSTART:20260329T010000
END:DAYLIGHT
BEGIN:STANDARD
TZOFFSETFROM:+0200
TZOFFSETTO:+0100
TZNAME:CET
DTSTART:20261025T010000
END:STANDARD
END:VTIMEZONE
BEGIN:VEVENT
DTSTART;TZID=Europe/Paris:20250810T000000
DTEND;TZID=Europe/Paris:20250810T235959
DTSTAMP:20260421T213115
CREATED:20260404T122833Z
LAST-MODIFIED:20260404T122833Z
UID:952-1754784000-1754870399@lepassemuraille-music.com
SUMMARY:GIN - Péniche Marcounet
DESCRIPTION:
URL:https://lepassemuraille-music.com/evenement/gin-peniche-marcounet/
CATEGORIES:GIN
ATTACH;FMTTYPE=image/png:https://lepassemuraille-music.com/wp-content/uploads/2025/11/tremplin.png
END:VEVENT
BEGIN:VEVENT
DTSTART;TZID=Europe/Paris:20250812T000000
DTEND;TZID=Europe/Paris:20250812T235959
DTSTAMP:20260421T213115
CREATED:20260404T123254Z
LAST-MODIFIED:20260404T123254Z
UID:970-1754956800-1755043199@lepassemuraille-music.com
SUMMARY:GIN - Supersonic
DESCRIPTION:
URL:https://lepassemuraille-music.com/evenement/gin-supersonic/
CATEGORIES:GIN
ATTACH;FMTTYPE=image/png:https://lepassemuraille-music.com/wp-content/uploads/2026/04/placeholder-9lZaRn.png
END:VEVENT
END:VCALENDAR