BEGIN:VCALENDAR
VERSION:2.0
PRODID:-//LE PASSE MURAILLE MUSIC - ECPv6.15.17.1//NONSGML v1.0//EN
CALSCALE:GREGORIAN
METHOD:PUBLISH
X-WR-CALNAME:LE PASSE MURAILLE MUSIC
X-ORIGINAL-URL:https://lepassemuraille-music.com
X-WR-CALDESC:Évènements pour LE PASSE MURAILLE MUSIC
REFRESH-INTERVAL;VALUE=DURATION:PT1H
X-Robots-Tag:noindex
X-PUBLISHED-TTL:PT1H
BEGIN:VTIMEZONE
TZID:Europe/Paris
BEGIN:DAYLIGHT
TZOFFSETFROM:+0100
TZOFFSETTO:+0200
TZNAME:CEST
DTSTART:20240331T010000
END:DAYLIGHT
BEGIN:STANDARD
TZOFFSETFROM:+0200
TZOFFSETTO:+0100
TZNAME:CET
DTSTART:20241027T010000
END:STANDARD
BEGIN:DAYLIGHT
TZOFFSETFROM:+0100
TZOFFSETTO:+0200
TZNAME:CEST
DTSTART:20250330T010000
END:DAYLIGHT
BEGIN:STANDARD
TZOFFSETFROM:+0200
TZOFFSETTO:+0100
TZNAME:CET
DTSTART:20251026T010000
END:STANDARD
BEGIN:DAYLIGHT
TZOFFSETFROM:+0100
TZOFFSETTO:+0200
TZNAME:CEST
DTSTART:20260329T010000
END:DAYLIGHT
BEGIN:STANDARD
TZOFFSETFROM:+0200
TZOFFSETTO:+0100
TZNAME:CET
DTSTART:20261025T010000
END:STANDARD
END:VTIMEZONE
BEGIN:VEVENT
DTSTART;TZID=Europe/Paris:20251209T000000
DTEND;TZID=Europe/Paris:20251209T235959
DTSTAMP:20260421T185838
CREATED:20260404T123255Z
LAST-MODIFIED:20260406T161946Z
UID:972-1765238400-1765324799@lepassemuraille-music.com
SUMMARY:YGNARE - Interférence
DESCRIPTION:
URL:https://lepassemuraille-music.com/evenement/ygnare-interference/
CATEGORIES:YGNARE
ATTACH;FMTTYPE=image/png:https://lepassemuraille-music.com/wp-content/uploads/2026/04/interference-150x150-obPBOZ.png
END:VEVENT
END:VCALENDAR