BEGIN:VCALENDAR
VERSION:2.0
PRODID:-//LE PASSE MURAILLE MUSIC - ECPv6.15.17.1//NONSGML v1.0//EN
CALSCALE:GREGORIAN
METHOD:PUBLISH
X-ORIGINAL-URL:https://lepassemuraille-music.com
X-WR-CALDESC:Évènements pour LE PASSE MURAILLE MUSIC
REFRESH-INTERVAL;VALUE=DURATION:PT1H
X-Robots-Tag:noindex
X-PUBLISHED-TTL:PT1H
BEGIN:VTIMEZONE
TZID:Europe/Paris
BEGIN:DAYLIGHT
TZOFFSETFROM:+0100
TZOFFSETTO:+0200
TZNAME:CEST
DTSTART:20240331T010000
END:DAYLIGHT
BEGIN:STANDARD
TZOFFSETFROM:+0200
TZOFFSETTO:+0100
TZNAME:CET
DTSTART:20241027T010000
END:STANDARD
BEGIN:DAYLIGHT
TZOFFSETFROM:+0100
TZOFFSETTO:+0200
TZNAME:CEST
DTSTART:20250330T010000
END:DAYLIGHT
BEGIN:STANDARD
TZOFFSETFROM:+0200
TZOFFSETTO:+0100
TZNAME:CET
DTSTART:20251026T010000
END:STANDARD
BEGIN:DAYLIGHT
TZOFFSETFROM:+0100
TZOFFSETTO:+0200
TZNAME:CEST
DTSTART:20260329T010000
END:DAYLIGHT
BEGIN:STANDARD
TZOFFSETFROM:+0200
TZOFFSETTO:+0100
TZNAME:CET
DTSTART:20261025T010000
END:STANDARD
END:VTIMEZONE
BEGIN:VEVENT
DTSTART;TZID=Europe/Paris:20250111T000000
DTEND;TZID=Europe/Paris:20250111T235959
DTSTAMP:20260422T112638
CREATED:20260404T122836Z
LAST-MODIFIED:20260404T122836Z
UID:957-1736553600-1736639999@lepassemuraille-music.com
SUMMARY:YASS BODY - Centre Culturel Libertaire
DESCRIPTION:
URL:https://lepassemuraille-music.com/evenement/yass-body-centre-culturel-libertaire/
CATEGORIES:YASS BODY
END:VEVENT
BEGIN:VEVENT
DTSTART;TZID=Europe/Paris:20250111T000000
DTEND;TZID=Europe/Paris:20250111T235959
DTSTAMP:20260422T112638
CREATED:20260404T122836Z
LAST-MODIFIED:20260404T122836Z
UID:958-1736553600-1736639999@lepassemuraille-music.com
SUMMARY:YASS BODY - Amul Solo
DESCRIPTION:
URL:https://lepassemuraille-music.com/evenement/yass-body-amul-solo/
CATEGORIES:YASS BODY
ATTACH;FMTTYPE=image/jpeg:https://lepassemuraille-music.com/wp-content/uploads/2025/11/amul.jpg
END:VEVENT
END:VCALENDAR