BEGIN:VCALENDAR
VERSION:2.0
PRODID:-//LE PASSE MURAILLE MUSIC - ECPv6.15.17.1//NONSGML v1.0//EN
CALSCALE:GREGORIAN
METHOD:PUBLISH
X-WR-CALNAME:LE PASSE MURAILLE MUSIC
X-ORIGINAL-URL:https://lepassemuraille-music.com
X-WR-CALDESC:Évènements pour LE PASSE MURAILLE MUSIC
REFRESH-INTERVAL;VALUE=DURATION:PT1H
X-Robots-Tag:noindex
X-PUBLISHED-TTL:PT1H
BEGIN:VTIMEZONE
TZID:Europe/Paris
BEGIN:DAYLIGHT
TZOFFSETFROM:+0100
TZOFFSETTO:+0200
TZNAME:CEST
DTSTART:20240331T010000
END:DAYLIGHT
BEGIN:STANDARD
TZOFFSETFROM:+0200
TZOFFSETTO:+0100
TZNAME:CET
DTSTART:20241027T010000
END:STANDARD
BEGIN:DAYLIGHT
TZOFFSETFROM:+0100
TZOFFSETTO:+0200
TZNAME:CEST
DTSTART:20250330T010000
END:DAYLIGHT
BEGIN:STANDARD
TZOFFSETFROM:+0200
TZOFFSETTO:+0100
TZNAME:CET
DTSTART:20251026T010000
END:STANDARD
BEGIN:DAYLIGHT
TZOFFSETFROM:+0100
TZOFFSETTO:+0200
TZNAME:CEST
DTSTART:20260329T010000
END:DAYLIGHT
BEGIN:STANDARD
TZOFFSETFROM:+0200
TZOFFSETTO:+0100
TZNAME:CET
DTSTART:20261025T010000
END:STANDARD
END:VTIMEZONE
BEGIN:VEVENT
DTSTART;TZID=Europe/Paris:20250106T000000
DTEND;TZID=Europe/Paris:20250106T235959
DTSTAMP:20260422T110451
CREATED:20260404T122836Z
LAST-MODIFIED:20260404T122836Z
UID:959-1736121600-1736207999@lepassemuraille-music.com
SUMMARY:YASS BODY - Club Rosso - Tokyo
DESCRIPTION:
URL:https://lepassemuraille-music.com/evenement/yass-body-club-rosso-tokyo/
CATEGORIES:YASS BODY
ATTACH;FMTTYPE=image/jpeg:https://lepassemuraille-music.com/wp-content/uploads/2025/07/club.jpg
END:VEVENT
BEGIN:VEVENT
DTSTART;TZID=Europe/Paris:20250106T000000
DTEND;TZID=Europe/Paris:20250106T235959
DTSTAMP:20260422T110451
CREATED:20260404T122852Z
LAST-MODIFIED:20260404T122852Z
UID:960-1736121600-1736207999@lepassemuraille-music.com
SUMMARY:YASS BODY - Live House Hearts - Saitama
DESCRIPTION:
URL:https://lepassemuraille-music.com/evenement/yass-body-live-house-hearts-saitama/
CATEGORIES:YASS BODY
ATTACH;FMTTYPE=image/jpeg:https://lepassemuraille-music.com/wp-content/uploads/2026/04/live-house-hearts-150x150-cIen7m.jpg
END:VEVENT
BEGIN:VEVENT
DTSTART;TZID=Europe/Paris:20250106T000000
DTEND;TZID=Europe/Paris:20250106T235959
DTSTAMP:20260422T110451
CREATED:20260404T122853Z
LAST-MODIFIED:20260404T122853Z
UID:964-1736121600-1736207999@lepassemuraille-music.com
SUMMARY:YASS BODY - La Vie Sauvage
DESCRIPTION:
URL:https://lepassemuraille-music.com/evenement/yass-body-la-vie-sauvage/
CATEGORIES:YASS BODY
ATTACH;FMTTYPE=image/jpeg:https://lepassemuraille-music.com/wp-content/uploads/2026/04/la-vie-sauvage-768x768-riRbFs.jpg
END:VEVENT
BEGIN:VEVENT
DTSTART;TZID=Europe/Paris:20250106T000000
DTEND;TZID=Europe/Paris:20250106T235959
DTSTAMP:20260422T110451
CREATED:20260404T123053Z
LAST-MODIFIED:20260404T123053Z
UID:965-1736121600-1736207999@lepassemuraille-music.com
SUMMARY:YASS BODY - Green Fest
DESCRIPTION:
URL:https://lepassemuraille-music.com/evenement/yass-body-green-fest/
CATEGORIES:YASS BODY
ATTACH;FMTTYPE=image/png:https://lepassemuraille-music.com/wp-content/uploads/2026/04/green-fest-768x468-6qifeR.png
END:VEVENT
END:VCALENDAR